BEGIN:VCALENDAR
VERSION:2.0
PRODID:-//Abol Bahadori - ECPv6.15.20//NONSGML v1.0//EN
CALSCALE:GREGORIAN
METHOD:PUBLISH
X-WR-CALNAME:Abol Bahadori
X-ORIGINAL-URL:https://www.abolart.com
X-WR-CALDESC:Events for Abol Bahadori
REFRESH-INTERVAL;VALUE=DURATION:PT1H
X-Robots-Tag:noindex
X-PUBLISHED-TTL:PT1H
BEGIN:VTIMEZONE
TZID:America/New_York
BEGIN:DAYLIGHT
TZOFFSETFROM:-0500
TZOFFSETTO:-0400
TZNAME:EDT
DTSTART:20240310T070000
END:DAYLIGHT
BEGIN:STANDARD
TZOFFSETFROM:-0400
TZOFFSETTO:-0500
TZNAME:EST
DTSTART:20241103T060000
END:STANDARD
BEGIN:DAYLIGHT
TZOFFSETFROM:-0500
TZOFFSETTO:-0400
TZNAME:EDT
DTSTART:20250309T070000
END:DAYLIGHT
BEGIN:STANDARD
TZOFFSETFROM:-0400
TZOFFSETTO:-0500
TZNAME:EST
DTSTART:20251102T060000
END:STANDARD
BEGIN:DAYLIGHT
TZOFFSETFROM:-0500
TZOFFSETTO:-0400
TZNAME:EDT
DTSTART:20260308T070000
END:DAYLIGHT
BEGIN:STANDARD
TZOFFSETFROM:-0400
TZOFFSETTO:-0500
TZNAME:EST
DTSTART:20261101T060000
END:STANDARD
END:VTIMEZONE
BEGIN:VEVENT
DTSTART;VALUE=DATE:20250417
DTEND;VALUE=DATE:20250503
DTSTAMP:20260422T021612
CREATED:20250331T182425Z
LAST-MODIFIED:20250417T234602Z
UID:4626-1744848000-1746230399@www.abolart.com
SUMMARY:Selected for WPA 2025 Collectors' Night Gala
DESCRIPTION:Two of my paintings\, Tracked & Traced and Prey\, from my Figurative and Baroque series\, were selected for the Washington Project for The Arts (WPA) 2025 Collectors’ Night Gala; the annual art auction Thursday\, May 1\, 6:00–9:30 pm. The auction\, hosted online on Artsy from April 18 to May 2\, features over 100 artworks by some of the most exciting contemporary artists from New York to Richmond. Proceeds from the auction directly benefit the participating artists and WPA\, as all sales are split 50/50. \nFor the first time\, free public viewing hours will be held Thursdays through Saturdays during the two weeks leading up to Collectors’ Night. \nPre-auction Free Public Viewing: \nThursday\, April 17\, 2–7 pm\nFriday\, April 18\, 12–5 pm\nSaturday\, April 19\, 12–5 pm\nThursday\, April 24\, 2–7 pm\nFriday\, April 25\, 12–5 pm\nSaturday\, April 26\, 12–5 pm \nClick here to buy tickets for Collectors’ Night on Thursday\, May 1.\nOr \nRegister to bid on artsy.net
URL:https://www.abolart.com/event/selected-for-wpa-2025-collectors-night-gala/
LOCATION:WPA 2025 Art Auction\, 560 11TH STREET NW\, Washington\, DC\, 20004\, United States
ATTACH;FMTTYPE=image/jpeg:https://www.abolart.com/wp-content/uploads/2025/03/WPA-2025.jpg
END:VEVENT
END:VCALENDAR