BEGIN:VCALENDAR
VERSION:2.0
PRODID:-//Abol Bahadori - ECPv6.15.20//NONSGML v1.0//EN
CALSCALE:GREGORIAN
METHOD:PUBLISH
X-ORIGINAL-URL:https://www.abolart.com
X-WR-CALDESC:Events for Abol Bahadori
REFRESH-INTERVAL;VALUE=DURATION:PT1H
X-Robots-Tag:noindex
X-PUBLISHED-TTL:PT1H
BEGIN:VTIMEZONE
TZID:America/New_York
BEGIN:DAYLIGHT
TZOFFSETFROM:-0500
TZOFFSETTO:-0400
TZNAME:EDT
DTSTART:20240310T070000
END:DAYLIGHT
BEGIN:STANDARD
TZOFFSETFROM:-0400
TZOFFSETTO:-0500
TZNAME:EST
DTSTART:20241103T060000
END:STANDARD
BEGIN:DAYLIGHT
TZOFFSETFROM:-0500
TZOFFSETTO:-0400
TZNAME:EDT
DTSTART:20250309T070000
END:DAYLIGHT
BEGIN:STANDARD
TZOFFSETFROM:-0400
TZOFFSETTO:-0500
TZNAME:EST
DTSTART:20251102T060000
END:STANDARD
BEGIN:DAYLIGHT
TZOFFSETFROM:-0500
TZOFFSETTO:-0400
TZNAME:EDT
DTSTART:20260308T070000
END:DAYLIGHT
BEGIN:STANDARD
TZOFFSETFROM:-0400
TZOFFSETTO:-0500
TZNAME:EST
DTSTART:20261101T060000
END:STANDARD
BEGIN:DAYLIGHT
TZOFFSETFROM:-0500
TZOFFSETTO:-0400
TZNAME:EDT
DTSTART:20270314T070000
END:DAYLIGHT
BEGIN:STANDARD
TZOFFSETFROM:-0400
TZOFFSETTO:-0500
TZNAME:EST
DTSTART:20271107T060000
END:STANDARD
END:VTIMEZONE
BEGIN:VEVENT
DTSTART;VALUE=DATE:20251010
DTEND;VALUE=DATE:20260119
DTSTAMP:20260421T162012
CREATED:20250923T161237Z
LAST-MODIFIED:20251107T065813Z
UID:4976-1760054400-1768780799@www.abolart.com
SUMMARY:Chronicles: Storytelling Through Imagery\, Annmarie Arts Center\, The Smithsonian
DESCRIPTION:Craning the Net from my Figurative series has been selected for the Chronicles: Storytelling Through Imagery exhibit at Annmarie Sculpture Garden & Arts Center by the juror Elizabeth Dale-Deines\, Public Programs Manager at the National Air and Space Museum. This marks my third consecutive acceptance at this prestigious venue affiliated with The Smithsonian.  \nThe exhibition will run from October 10 through January 18\, 2026\, offering you ample time to experience the art and the beautiful gardens.  \nAbout Craning the Net: \nA mixed media—spray paint\, watercolor\, acrylic\, charcoal and collage on a 20×60” canvas in which I combined an abstract female form and the net (left and below)\, resulting from spray-painting over a fishing net and a more representational male figure and construction tools on the right (charcoal and collage). It depicts the constant human struggle to make ends meet. Meanwhile\, a grander landscape appears with an optimistic energy on the horizon\, symbolizing hope.
URL:https://www.abolart.com/event/chronicles-storytelling-through-imagery-annmarie-arts-center-the-smithsonian/
LOCATION:Annmarie Art Center\, 13470 Dowell Road\, Solomons\, MD\, 20688\, United States
ATTACH;FMTTYPE=image/jpeg:https://www.abolart.com/wp-content/uploads/2019/05/Craning-the-Net-20x60-1.jpg
END:VEVENT
END:VCALENDAR