BEGIN:VCALENDAR
VERSION:2.0
PRODID:-//Abol Bahadori - ECPv6.15.20//NONSGML v1.0//EN
CALSCALE:GREGORIAN
METHOD:PUBLISH
X-ORIGINAL-URL:https://www.abolart.com
X-WR-CALDESC:Events for Abol Bahadori
REFRESH-INTERVAL;VALUE=DURATION:PT1H
X-Robots-Tag:noindex
X-PUBLISHED-TTL:PT1H
BEGIN:VTIMEZONE
TZID:America/New_York
BEGIN:DAYLIGHT
TZOFFSETFROM:-0500
TZOFFSETTO:-0400
TZNAME:EDT
DTSTART:20230312T070000
END:DAYLIGHT
BEGIN:STANDARD
TZOFFSETFROM:-0400
TZOFFSETTO:-0500
TZNAME:EST
DTSTART:20231105T060000
END:STANDARD
BEGIN:DAYLIGHT
TZOFFSETFROM:-0500
TZOFFSETTO:-0400
TZNAME:EDT
DTSTART:20240310T070000
END:DAYLIGHT
BEGIN:STANDARD
TZOFFSETFROM:-0400
TZOFFSETTO:-0500
TZNAME:EST
DTSTART:20241103T060000
END:STANDARD
BEGIN:DAYLIGHT
TZOFFSETFROM:-0500
TZOFFSETTO:-0400
TZNAME:EDT
DTSTART:20250309T070000
END:DAYLIGHT
BEGIN:STANDARD
TZOFFSETFROM:-0400
TZOFFSETTO:-0500
TZNAME:EST
DTSTART:20251102T060000
END:STANDARD
END:VTIMEZONE
BEGIN:VEVENT
DTSTART;VALUE=DATE:20240411
DTEND;VALUE=DATE:20240616
DTSTAMP:20260420T180517
CREATED:20240309T224646Z
LAST-MODIFIED:20240603T184119Z
UID:3981-1712793600-1718495999@www.abolart.com
SUMMARY:Inner Gardens | Open Now – June 15
DESCRIPTION:I am honored to be selected by the McLean Project for the Arts (MPA) for the 2024 Spring Solo Show and featured in The Washington Post. \nExhibit Duration: April 11 to June 15\, 2024 | Gallery is open daily\, 9 am – 10 pm\nTea & Talk: June 4 at 11am \nAtrium Gallery at MPA features my recent Inner Gardens painting collection from my Architectural and Perspective series. \nThis exhibit is an interplay between artificial and natural\, solid and fluid\, geometrical and organic\, and abstract versus real. Such combinations and contradictions open many directions for the viewer’s eye to pass or float through. Meanwhile\, using all elements as color fields is a visual metaphor to awaken each viewer’s inner gardens. \nI explore the space between the recognizable and unfamiliar\, unveiling the unknown or forgotten. Success in the work lies in viewers finding their unique stories within\, forging a profound connection to self and nature. Color\, prioritized over form\, is paramount\, shaping space and dimension and evoking deep emotions. \nPlease visit any day until June 15\, and I would love to see you at the in-person artist talk event on June 1\, 11 a.m.
URL:https://www.abolart.com/event/solo-show-2024/
LOCATION:McLean Project for the Arts\, 944 Mackall Farms Lane\, McLean\, VA\, 22101\, United States
ATTACH;FMTTYPE=image/jpeg:https://www.abolart.com/wp-content/uploads/2024/03/Inner-Gardens-Solo-Show.jpg
END:VEVENT
END:VCALENDAR