BEGIN:VCALENDAR
VERSION:2.0
PRODID:-//Abol Bahadori - ECPv6.15.20//NONSGML v1.0//EN
CALSCALE:GREGORIAN
METHOD:PUBLISH
X-ORIGINAL-URL:https://www.abolart.com
X-WR-CALDESC:Events for Abol Bahadori
REFRESH-INTERVAL;VALUE=DURATION:PT1H
X-Robots-Tag:noindex
X-PUBLISHED-TTL:PT1H
BEGIN:VTIMEZONE
TZID:America/New_York
BEGIN:DAYLIGHT
TZOFFSETFROM:-0500
TZOFFSETTO:-0400
TZNAME:EDT
DTSTART:20250309T070000
END:DAYLIGHT
BEGIN:STANDARD
TZOFFSETFROM:-0400
TZOFFSETTO:-0500
TZNAME:EST
DTSTART:20251102T060000
END:STANDARD
BEGIN:DAYLIGHT
TZOFFSETFROM:-0500
TZOFFSETTO:-0400
TZNAME:EDT
DTSTART:20260308T070000
END:DAYLIGHT
BEGIN:STANDARD
TZOFFSETFROM:-0400
TZOFFSETTO:-0500
TZNAME:EST
DTSTART:20261101T060000
END:STANDARD
BEGIN:DAYLIGHT
TZOFFSETFROM:-0500
TZOFFSETTO:-0400
TZNAME:EDT
DTSTART:20270314T070000
END:DAYLIGHT
BEGIN:STANDARD
TZOFFSETFROM:-0400
TZOFFSETTO:-0500
TZNAME:EST
DTSTART:20271107T060000
END:STANDARD
END:VTIMEZONE
BEGIN:VEVENT
DTSTART;TZID=America/New_York:20260215T180000
DTEND;TZID=America/New_York:20260215T200000
DTSTAMP:20260421T113646
CREATED:20260203T192930Z
LAST-MODIFIED:20260203T193003Z
UID:5197-1771178400-1771185600@www.abolart.com
SUMMARY:The Art League Patron's Show Fundraiser 2026
DESCRIPTION:I’ve donated eight of my large and medium-sized paintings from various series created between 2011 and 2026 to this great annual show\, which is an experience that’s part fundraiser\, part block party\, and totally fun. It’s The Art League’s biggest fundraising event of the year\, providing seasoned art collectors and newcomers alike with the excellent opportunity to acquire high-quality\, original fine art at a bargain price while supporting a great non-profit organization and our artist community. All proceeds benefit The Art League’s educational programs\, exhibits\, community outreach\, and classroom relocation project. \nThe live event on February 15\, 6 pm\, will run in person with an online broadcast\, so ticketholders may choose how they would like to attend: in person or virtually! For each ticket drawn\, ticket holders go home with a work of art valued at up to thousands of dollars. \nClick here for details and tickets.\n  \n 
URL:https://www.abolart.com/event/the-art-league-patrons-show-fundraiser-2026/
LOCATION:The Art Leauge\, 105 N Union St\, Alexandria\, VA\, 22314\, United States
ATTACH;FMTTYPE=image/jpeg:https://www.abolart.com/wp-content/uploads/2026/02/Patrons-2026.jpg
END:VEVENT
END:VCALENDAR