BEGIN:VCALENDAR
VERSION:2.0
PRODID:-//Abol Bahadori - ECPv6.15.20//NONSGML v1.0//EN
CALSCALE:GREGORIAN
METHOD:PUBLISH
X-WR-CALNAME:Abol Bahadori
X-ORIGINAL-URL:https://www.abolart.com
X-WR-CALDESC:Events for Abol Bahadori
REFRESH-INTERVAL;VALUE=DURATION:PT1H
X-Robots-Tag:noindex
X-PUBLISHED-TTL:PT1H
BEGIN:VTIMEZONE
TZID:America/New_York
BEGIN:DAYLIGHT
TZOFFSETFROM:-0500
TZOFFSETTO:-0400
TZNAME:EDT
DTSTART:20240310T070000
END:DAYLIGHT
BEGIN:STANDARD
TZOFFSETFROM:-0400
TZOFFSETTO:-0500
TZNAME:EST
DTSTART:20241103T060000
END:STANDARD
BEGIN:DAYLIGHT
TZOFFSETFROM:-0500
TZOFFSETTO:-0400
TZNAME:EDT
DTSTART:20250309T070000
END:DAYLIGHT
BEGIN:STANDARD
TZOFFSETFROM:-0400
TZOFFSETTO:-0500
TZNAME:EST
DTSTART:20251102T060000
END:STANDARD
BEGIN:DAYLIGHT
TZOFFSETFROM:-0500
TZOFFSETTO:-0400
TZNAME:EDT
DTSTART:20260308T070000
END:DAYLIGHT
BEGIN:STANDARD
TZOFFSETFROM:-0400
TZOFFSETTO:-0500
TZNAME:EST
DTSTART:20261101T060000
END:STANDARD
END:VTIMEZONE
BEGIN:VEVENT
DTSTART;VALUE=DATE:20251016
DTEND;VALUE=DATE:20251024
DTSTAMP:20260421T211548
CREATED:20250928T072357Z
LAST-MODIFIED:20251025T032250Z
UID:4980-1760572800-1761263999@www.abolart.com
SUMMARY:Hickok Cole Art Night Event 2025
DESCRIPTION:I am honored to announce that three of my paintings—Bounce\, Light Hall\, and Portal Mystique from my Architectural series—have been selected for the Hickok Cole Art Night 2025 Annual Auction. This prestigious event supports the Washington Project for the Arts (WPA) and local artists. \nMy participation came by invitation\, followed by an extensive jury selection process. I am thrilled that three of my works were chosen for this significant fundraiser\, and one sold at the opening. Art Night raised $164\,960 for WPA and the local arts\, marking this the biggest fundraiser in 25 years.
URL:https://www.abolart.com/event/hickok-cole-art-night-gala-2025/
LOCATION:Hickok Cole\, 301 N Street Northeast Suite 300\, Washington\, DC\, 220002\, United States
ATTACH;FMTTYPE=image/jpeg:https://www.abolart.com/wp-content/uploads/2025/09/HickokCole-2025.jpg
END:VEVENT
END:VCALENDAR