BEGIN:VCALENDAR
VERSION:2.0
PRODID:-//Abol Bahadori - ECPv6.15.17.1//NONSGML v1.0//EN
CALSCALE:GREGORIAN
METHOD:PUBLISH
X-WR-CALNAME:Abol Bahadori
X-ORIGINAL-URL:https://www.abolart.com
X-WR-CALDESC:Events for Abol Bahadori
REFRESH-INTERVAL;VALUE=DURATION:PT1H
X-Robots-Tag:noindex
X-PUBLISHED-TTL:PT1H
BEGIN:VTIMEZONE
TZID:America/New_York
BEGIN:DAYLIGHT
TZOFFSETFROM:-0500
TZOFFSETTO:-0400
TZNAME:EDT
DTSTART:20250309T070000
END:DAYLIGHT
BEGIN:STANDARD
TZOFFSETFROM:-0400
TZOFFSETTO:-0500
TZNAME:EST
DTSTART:20251102T060000
END:STANDARD
BEGIN:DAYLIGHT
TZOFFSETFROM:-0500
TZOFFSETTO:-0400
TZNAME:EDT
DTSTART:20260308T070000
END:DAYLIGHT
BEGIN:STANDARD
TZOFFSETFROM:-0400
TZOFFSETTO:-0500
TZNAME:EST
DTSTART:20261101T060000
END:STANDARD
BEGIN:DAYLIGHT
TZOFFSETFROM:-0500
TZOFFSETTO:-0400
TZNAME:EDT
DTSTART:20270314T070000
END:DAYLIGHT
BEGIN:STANDARD
TZOFFSETFROM:-0400
TZOFFSETTO:-0500
TZNAME:EST
DTSTART:20271107T060000
END:STANDARD
END:VTIMEZONE
BEGIN:VEVENT
DTSTART;VALUE=DATE:20260121
DTEND;VALUE=DATE:20260503
DTSTAMP:20260420T013416
CREATED:20251226T043951Z
LAST-MODIFIED:20260203T185052Z
UID:5135-1768953600-1777766399@www.abolart.com
SUMMARY:Hill Center Galleries 2026 Regional Juried Exhibition
DESCRIPTION:Delphic\, from my Figurative series\, is selected by the independent juror\, Claude L. Elliot\, for the 2026 Regional Juried Show at Hill Center Galleries\, Capitol Hill\, Washington\, DC.\nThis marks my third consecutive year in this prestigious exhibition\, following my Best in Show award in 2024. \nThe exhibition runs from January 21 to May 2\, 2026 \nAbout the selected piece: \nLayered water media on a 24×24″ water media wood board\, Delphic is a tribute to Eva Palmer-Sikelianos\, merging ancient and modern themes. The central figure exudes 1920s sophistication and classical poise\, set against a vibrant backdrop of abstract botanical forms. The composition is intersected by red grids\, reimagining the traditional loom as a construct that blends history\, nature\, and the future into a single enigmatic moment.
URL:https://www.abolart.com/event/hill-center-galleries-2026-regional-juried-exhibition/
LOCATION:Hill Center\, 921 Pennsylvania Avenue\, SE\, Washington\, DC\, 20003\, United States
ATTACH;FMTTYPE=image/jpeg:https://www.abolart.com/wp-content/uploads/2023/03/Delphic-16x16-1.jpg
END:VEVENT
BEGIN:VEVENT
DTSTART;VALUE=DATE:20260401
DTEND;VALUE=DATE:20260426
DTSTAMP:20260420T013416
CREATED:20260402T165915Z
LAST-MODIFIED:20260402T210134Z
UID:5304-1775001600-1777161599@www.abolart.com
SUMMARY:Reflecting: MFA April 2026 Exhibit
DESCRIPTION:Lily Den\, from my Perspective series\, is selected by Nataliya Gurshman\, juror of the Maryland Federation of Art (MFA) Reflecting Exhibit\, Spring 2026\, at the Circle Gallery in Downtown Annapolis. Out of 293 total entries by 115 artists\, I was one of 45 artists selected. \nDuration: April 1–25 \nAnnapolis Art Walk Reception: April 16 from 5 – 8 PM \nClosing Reception/Meet the Artist: April 25 from 4 – 6 PM \n\nConcept: \nCalla lilies have found refuge in a den under the steps of an alley in an old town. Inspired by his birthplace\, Tabriz\, Azerbaijan\, Iran\, I created this nostalgic space to invite all viewers to walk in with their own sense of déjà vu. \n 
URL:https://www.abolart.com/event/mfa-reflecting-spring-2026/
LOCATION:MFA\, Circle Gallery\, 18 State Circle\, Annapolis\, MD\, 21401\, United States
ATTACH;FMTTYPE=image/jpeg:https://www.abolart.com/wp-content/uploads/2019/05/Lily-Den-24x20-1.jpg
END:VEVENT
END:VCALENDAR